Workbook

Sheet Declaratie
B2: Onkosten moeten worden gedeclareerd binnen 180 dagen na het maken van de onkosten
B4: DECLARATIEFORMULIER STUDENTEN
B5: ALLEEN GELE CELLEN INVULLEN , FORMULIER VERSTUREN NAAR ADMINISTRATIE.AVAG@INHOLLAND.NL
B7: Zie onderstaande link voor de actuele richtlijnen / beleid rondom toegestane declaraties
B8: Tegemoetkoming in de onkosten tijdens stages – Studiegids AVAG
B10: Studentnummer
B11: Voornaam
B12: Achternaam
B13: Datum:
B14: Aantal bonnen:
B16: Gegevens bankrekening waarnaar de vergoeding overgemaakt moet worden:
B17: IBAN: | D17: Dubbelcheck je IBAN! Je bent zelf verantwoordelijk voor het juist invullen
B18: Ten name van:
B19: Woonplaats:
B21: Tabblad | C21: Korte kostenomschrijving | D21: Bedrag | E21: Budget | F21: Toelichting
B22: 1 | C22: Reiskostenvergoeding partus diensten (kilometervergoeding / autohuur) | D22: ='1. km vergoeding'!K27 -> 0 | E22: stagekosten | F22: KM's invullen tabblad 1 + indien van toepassing facturen tabblad 6.
B23: 2 | C23: Tegemoetkoming in huisvestingskosten | D23: ='2. Huisvesting'!C30 -> 0 | E23: stagekosten | F23: Gegevens verblijfplaats invullen tabblad 2 + facturen tabblad 6.
B24: 3 | C24: Taxiritten nacht (22:00 - 7:00) | D24: ='3. Taxi'!E32 -> 0 | E24: Veiligheid | F24: Gegevens invullen tabblad 3 + facturen tabblad 6.
C25: Stage-onkosten of verloskundige scholing PGB | E25: PGB | F25: Bedrag hier invullen (gele cel) + facturen & akkoord SLC tabblad 6.
B26: 5 | C26: Stage / minor buitenland, vaccinaties, etc | D26: ='5. Buitenland'!D18 -> 0 | E26: Overig | F26: Gegevens invullen tabblad 5 + facturen tabblad 6.
C27: VOG & overig | E27: Overig | F27: Bedrag hier invullen (gele cel) + facturen tabblad 6 en toelichting hieronder.
C29: TOTAALBEDRAG | D29: =SUM(D22:D27) -> 0
C31: Toelichting overige declaratie

Sheet 1. km vergoeding
B2: Naam student | D2: =Declaratie!C11&" "&Declaratie!C12 | J2: maximum dagtarief: | K2: 15 | V2: Voorwaarden waaraan je moet voldoen om in aanmerking te komen voor de kilometervergoeding:
B3: Studentnummer | D3: =Declaratie!C10 -> 0 | J3: maximum weekbedrag: | K3: 75 | V3: · Bij de stageplanning is bekend dat je tijdens je stages kunt beschikken over een auto/motor
B4: Datum declaratie | D4: =Declaratie!C13 -> 0 | J4: maximaal km per etmaal: | K4: 65 | V4: · De opleiding kan je vragen om je gereden kilometers te specificeren
V5: Houd dus in een apart document een kilometerregistratie bij die je desgevraagd kunt overleggen
B6: Week-nummer | C6: Gereden kilometers (nacht) van > op | J6: Totaal # km/ weeknummer | V6: Je specificeert de ritten door de postcodes te noteren. Bijv.: rit 1: postcode 2418 KZ naar 2468 BP
C7: Ma | D7: Di | E7: Wo | F7: Do | G7: Vr | H7: Za | I7: Zo | K7: declaratie | M7: Ma | N7: Di | O7: Wo | P7: Do | Q7: Vr | R7: Za | S7: Zo | V7: · Je kunt alleen kilometers declareren van zelfstandig gereden ritten naar een spoedconsult of bevalling waarbij je niet kan meerijden met de verloskundige.
J8: =SUM(C8:I8) -> 0 | K8: =MIN(J8*0.23,$K$3) -> 0 | M8: =MIN(IF(C8<>"",C8,0),$K$4) -> 0 | N8: =MIN(IF(D8<>"",D8,0),$K$4) -> 0 | O8: =MIN(IF(E8<>"",E8,0),$K$4) -> 0 | P8: =MIN(IF(F8<>"",F8,0),$K$4) -> 0 | Q8: =MIN(IF(G8<>"",G8,0),$K$4) -> 0 | R8: =MIN(IF(H8<>"",H8,0),$K$4) -> 0 | S8: =MIN(IF(I8<>"",I8,0),$K$4) -> 0 | T8: =SUM(M8:S8) -> 0 | V8: · Kilometers voor woon/werkverkeer (van je woon/ slaapadres naar de praktijk voor spreekuren) komen niet in aanmerking voor vergoeding.
J9: =SUM(C9:I9) -> 0 | K9: =MIN(J9*0.23,$K$3) -> 0 | M9: =MIN(IF(C9<>"",C9,0),$K$4) -> 0 | N9: =MIN(IF(D9<>"",D9,0),$K$4) -> 0 | O9: =MIN(IF(E9<>"",E9,0),$K$4) -> 0 | P9: =MIN(IF(F9<>"",F9,0),$K$4) -> 0 | Q9: =MIN(IF(G9<>"",G9,0),$K$4) -> 0 | R9: =MIN(IF(H9<>"",H9,0),$K$4) -> 0 | S9: =MIN(IF(I9<>"",I9,0),$K$4) -> 0 | T9: =SUM(M9:S9) -> 0
J10: =SUM(C10:I10) -> 0 | K10: =MIN(J10*0.23,$K$3) -> 0 | M10: =MIN(IF(C10<>"",C10,0),$K$4) -> 0 | N10: =MIN(IF(D10<>"",D10,0),$K$4) -> 0 | O10: =MIN(IF(E10<>"",E10,0),$K$4) -> 0 | P10: =MIN(IF(F10<>"",F10,0),$K$4) -> 0 | Q10: =MIN(IF(G10<>"",G10,0),$K$4) -> 0 | R10: =MIN(IF(H10<>"",H10,0),$K$4) -> 0 | S10: =MIN(IF(I10<>"",I10,0),$K$4) -> 0 | T10: =SUM(M10:S10) -> 0 | V10: Met CTRL + P kun je dit tabblad printen (of opslaan als PDF) en laten ondertekenen door de praktijk en toevoegen op het tabblad 6. Factuur & betaalbewijs
J11: =SUM(C11:I11) -> 0 | K11: =MIN(J11*0.23,$K$3) -> 0 | M11: =MIN(IF(C11<>"",C11,0),$K$4) -> 0 | N11: =MIN(IF(D11<>"",D11,0),$K$4) -> 0 | O11: =MIN(IF(E11<>"",E11,0),$K$4) -> 0 | P11: =MIN(IF(F11<>"",F11,0),$K$4) -> 0 | Q11: =MIN(IF(G11<>"",G11,0),$K$4) -> 0 | R11: =MIN(IF(H11<>"",H11,0),$K$4) -> 0 | S11: =MIN(IF(I11<>"",I11,0),$K$4) -> 0 | T11: =SUM(M11:S11) -> 0
J12: =SUM(C12:I12) -> 0 | K12: =MIN(J12*0.23,$K$3) -> 0 | M12: =MIN(IF(C12<>"",C12,0),$K$4) -> 0 | N12: =MIN(IF(D12<>"",D12,0),$K$4) -> 0 | O12: =MIN(IF(E12<>"",E12,0),$K$4) -> 0 | P12: =MIN(IF(F12<>"",F12,0),$K$4) -> 0 | Q12: =MIN(IF(G12<>"",G12,0),$K$4) -> 0 | R12: =MIN(IF(H12<>"",H12,0),$K$4) -> 0 | S12: =MIN(IF(I12<>"",I12,0),$K$4) -> 0 | T12: =SUM(M12:S12) -> 0
J13: =SUM(C13:I13) -> 0 | K13: =MIN(J13*0.23,$K$3) -> 0 | M13: =MIN(IF(C13<>"",C13,0),$K$4) -> 0 | N13: =MIN(IF(D13<>"",D13,0),$K$4) -> 0 | O13: =MIN(IF(E13<>"",E13,0),$K$4) -> 0 | P13: =MIN(IF(F13<>"",F13,0),$K$4) -> 0 | Q13: =MIN(IF(G13<>"",G13,0),$K$4) -> 0 | R13: =MIN(IF(H13<>"",H13,0),$K$4) -> 0 | S13: =MIN(IF(I13<>"",I13,0),$K$4) -> 0 | T13: =SUM(M13:S13) -> 0
J14: =SUM(C14:I14) -> 0 | K14: =MIN(J14*0.23,$K$3) -> 0 | M14: =MIN(IF(C14<>"",C14,0),$K$4) -> 0 | N14: =MIN(IF(D14<>"",D14,0),$K$4) -> 0 | O14: =MIN(IF(E14<>"",E14,0),$K$4) -> 0 | P14: =MIN(IF(F14<>"",F14,0),$K$4) -> 0 | Q14: =MIN(IF(G14<>"",G14,0),$K$4) -> 0 | R14: =MIN(IF(H14<>"",H14,0),$K$4) -> 0 | S14: =MIN(IF(I14<>"",I14,0),$K$4) -> 0 | T14: =SUM(M14:S14) -> 0
J15: =SUM(C15:I15) -> 0 | K15: =MIN(J15*0.23,$K$3) -> 0 | M15: =MIN(IF(C15<>"",C15,0),$K$4) -> 0 | N15: =MIN(IF(D15<>"",D15,0),$K$4) -> 0 | O15: =MIN(IF(E15<>"",E15,0),$K$4) -> 0 | P15: =MIN(IF(F15<>"",F15,0),$K$4) -> 0 | Q15: =MIN(IF(G15<>"",G15,0),$K$4) -> 0 | R15: =MIN(IF(H15<>"",H15,0),$K$4) -> 0 | S15: =MIN(IF(I15<>"",I15,0),$K$4) -> 0 | T15: =SUM(M15:S15) -> 0
J16: =SUM(C16:I16) -> 0 | K16: =MIN(J16*0.23,$K$3) -> 0 | M16: =MIN(IF(C16<>"",C16,0),$K$4) -> 0 | N16: =MIN(IF(D16<>"",D16,0),$K$4) -> 0 | O16: =MIN(IF(E16<>"",E16,0),$K$4) -> 0 | P16: =MIN(IF(F16<>"",F16,0),$K$4) -> 0 | Q16: =MIN(IF(G16<>"",G16,0),$K$4) -> 0 | R16: =MIN(IF(H16<>"",H16,0),$K$4) -> 0 | S16: =MIN(IF(I16<>"",I16,0),$K$4) -> 0 | T16: =SUM(M16:S16) -> 0
J17: =SUM(C17:I17) -> 0 | K17: =MIN(J17*0.23,$K$3) -> 0 | M17: =MIN(IF(C17<>"",C17,0),$K$4) -> 0 | N17: =MIN(IF(D17<>"",D17,0),$K$4) -> 0 | O17: =MIN(IF(E17<>"",E17,0),$K$4) -> 0 | P17: =MIN(IF(F17<>"",F17,0),$K$4) -> 0 | Q17: =MIN(IF(G17<>"",G17,0),$K$4) -> 0 | R17: =MIN(IF(H17<>"",H17,0),$K$4) -> 0 | S17: =MIN(IF(I17<>"",I17,0),$K$4) -> 0 | T17: =SUM(M17:S17) -> 0
J18: =SUM(C18:I18) -> 0 | K18: =MIN(J18*0.23,$K$3) -> 0 | M18: =MIN(IF(C18<>"",C18,0),$K$4) -> 0 | N18: =MIN(IF(D18<>"",D18,0),$K$4) -> 0 | O18: =MIN(IF(E18<>"",E18,0),$K$4) -> 0 | P18: =MIN(IF(F18<>"",F18,0),$K$4) -> 0 | Q18: =MIN(IF(G18<>"",G18,0),$K$4) -> 0 | R18: =MIN(IF(H18<>"",H18,0),$K$4) -> 0 | S18: =MIN(IF(I18<>"",I18,0),$K$4) -> 0 | T18: =SUM(M18:S18) -> 0
J19: =SUM(C19:I19) -> 0 | K19: =MIN(J19*0.23,$K$3) -> 0 | M19: =MIN(IF(C19<>"",C19,0),$K$4) -> 0 | N19: =MIN(IF(D19<>"",D19,0),$K$4) -> 0 | O19: =MIN(IF(E19<>"",E19,0),$K$4) -> 0 | P19: =MIN(IF(F19<>"",F19,0),$K$4) -> 0 | Q19: =MIN(IF(G19<>"",G19,0),$K$4) -> 0 | R19: =MIN(IF(H19<>"",H19,0),$K$4) -> 0 | S19: =MIN(IF(I19<>"",I19,0),$K$4) -> 0 | T19: =SUM(M19:S19) -> 0
J20: =SUM(C20:I20) -> 0 | K20: =MIN(J20*0.23,$K$3) -> 0 | M20: =MIN(IF(C20<>"",C20,0),$K$4) -> 0 | N20: =MIN(IF(D20<>"",D20,0),$K$4) -> 0 | O20: =MIN(IF(E20<>"",E20,0),$K$4) -> 0 | P20: =MIN(IF(F20<>"",F20,0),$K$4) -> 0 | Q20: =MIN(IF(G20<>"",G20,0),$K$4) -> 0 | R20: =MIN(IF(H20<>"",H20,0),$K$4) -> 0 | S20: =MIN(IF(I20<>"",I20,0),$K$4) -> 0 | T20: =SUM(M20:S20) -> 0
J21: =SUM(C21:I21) -> 0 | K21: =MIN(J21*0.23,$K$3) -> 0 | M21: =MIN(IF(C21<>"",C21,0),$K$4) -> 0 | N21: =MIN(IF(D21<>"",D21,0),$K$4) -> 0 | O21: =MIN(IF(E21<>"",E21,0),$K$4) -> 0 | P21: =MIN(IF(F21<>"",F21,0),$K$4) -> 0 | Q21: =MIN(IF(G21<>"",G21,0),$K$4) -> 0 | R21: =MIN(IF(H21<>"",H21,0),$K$4) -> 0 | S21: =MIN(IF(I21<>"",I21,0),$K$4) -> 0 | T21: =SUM(M21:S21) -> 0
J22: =SUM(C22:I22) -> 0 | K22: =MIN(J22*0.23,$K$3) -> 0 | M22: =MIN(IF(C22<>"",C22,0),$K$4) -> 0 | N22: =MIN(IF(D22<>"",D22,0),$K$4) -> 0 | O22: =MIN(IF(E22<>"",E22,0),$K$4) -> 0 | P22: =MIN(IF(F22<>"",F22,0),$K$4) -> 0 | Q22: =MIN(IF(G22<>"",G22,0),$K$4) -> 0 | R22: =MIN(IF(H22<>"",H22,0),$K$4) -> 0 | S22: =MIN(IF(I22<>"",I22,0),$K$4) -> 0 | T22: =SUM(M22:S22) -> 0
... J26: =SUM(C26:I26) -> 0 | K26: =MIN(J26*0.23,$K$3) -> 0 | M26: =MIN(IF(C26<>"",C26,0),$K$4) -> 0 | N26: =MIN(IF(D26<>"",D26,0),$K$4) -> 0 | O26: =MIN(IF(E26<>"",E26,0),$K$4) -> 0 | P26: =MIN(IF(F26<>"",F26,0),$K$4) -> 0 | Q26: =MIN(IF(G26<>"",G26,0),$K$4) -> 0 | R26: =MIN(IF(H26<>"",H26,0),$K$4) -> 0 | S26: =MIN(IF(I26<>"",I26,0),$K$4) -> 0 | T26: =SUM(M26:S26) -> 0
C27: Totaal aantal | J27: =SUM(J8:J26) -> 0 | K27: =SUM(K8:K26) -> 0 | T27: =S27*0.23 -> 0
B29: Akkoord stagebieder voor gedeclareerde kilometers door de student:
B31: Naam verloskundige:
B32: Naam praktijk:
B33: Handtekening verloskundige

Sheet 2. Huisvesting
B2: Naam stagepraktijk(en)
C6: Week van | D6: Week tot
B7: Periode stage(s)
B8: Naam verblijfplaats 1
B9: Geboekt via
B10: Link naar verblijfplaats
B11: (graag URL opnemen voor verificatiedoeleinden)
C14: Week van | D14: Week tot
B15: Periode stage(s)
B16: Naam verblijfplaats 2
B17: Geboekt via
B18: Link naar verblijfplaats
B19: (graag URL opnemen voor verificatiedoeleinden)
C21: Week van | D21: Week tot
B22: Periode stage(s)
B23: Naam verblijfplaats 3
B24: Geboekt via
B25: Link naar verblijfplaats
B26: (graag URL opnemen voor verificatiedoeleinden)
B28: Totale kosten
B29: Aantal nachten | L29: OP TABBLAD 6. FACTUUR EN BETAALBEWIJS ALLE BETAALBEWIJZEN EN FACTUREN OPNEMEN
B30: Maximale vergoeding | C30: =MIN(C28,C29*30) -> 0

Sheet 3. Taxi
B2: In het kader van de veiligheid gedurende de nachtelijke uren is er een tegemoetkoming in de kosten voor taxiritten als de student partusdienst heeft in de 1e lijn.
B3: De student ontvangt van de opleiding een tegemoetkoming in de kosten van een taxirit van of naar een bevalling tussen 22.00 uur ´s avonds en 7.00 uur ´s morgens tot maximaal €25 per rit.
B4: Wanneer de student gebruikmaakt van eigen vervoer of meerijdt met de verloskundige ontvangt zij geen tegemoetkoming in de onkosten.
B5: Om voor een tegemoetkoming in de kosten voor een taxi in aanmerking te komen geldt het volgende:
B6: De student belt een willekeurig taxibedrijf en betaalt de taxirit eerst volledig zelf.
B7: Met de originele taxibon kan de student m.b.v. het onkostendeclaratieformulier een tegemoetkoming ontvangen van maximaal € 25,- per rit.
B9: Naam student | C9: =Declaratie!C11 -> 0 | D9: maximum per rit | E9: 25
B10: Studentnummer | C10: =Declaratie!C10 -> 0
B11: Datum declaratie | C11: =Declaratie!C13 -> 0
D12: Week van | E12: Week tot
B13: Stageplek
B15: Datum | C15: Tijdstip start taxirit | D15: Kosten | E15: Declaratie
E16: =MIN(IF(D16<>"",D16,0),$E$9) -> 0
E17: =MIN(IF(D17<>"",D17,0),$E$9) -> 0
E18: =MIN(IF(D18<>"",D18,0),$E$9) -> 0
E19: =MIN(IF(D19<>"",D19,0),$E$9) -> 0
E20: =MIN(IF(D20<>"",D20,0),$E$9) -> 0
E21: =MIN(IF(D21<>"",D21,0),$E$9) -> 0
E22: =MIN(IF(D22<>"",D22,0),$E$9) -> 0
E23: =MIN(IF(D23<>"",D23,0),$E$9) -> 0
E24: =MIN(IF(D24<>"",D24,0),$E$9) -> 0
E25: =MIN(IF(D25<>"",D25,0),$E$9) -> 0
E26: =MIN(IF(D26<>"",D26,0),$E$9) -> 0
E27: =MIN(IF(D27<>"",D27,0),$E$9) -> 0
... E30: =MIN(IF(D30<>"",D30,0),$E$9) -> 0
B32: Totaal | D32: =SUM(D16:D31) -> 0 | E32: =SUM(E16:E31) -> 0
B34: OP TABBLAD 6. FACTUUR EN BETAALBEWIJS ALLE BETAALBEWIJZEN EN FACTUREN OPNEMEN

Sheet 5. Buitenland
B2: Reis-/verblijfkosten bij studeren in het buitenland
B3: Als je gaat studeren (stage of minor) in het buitenland dan zijn er naast de verblijfskosten, kosten voor je vlucht, visakosten en kosten voor vaccinaties.
B4: AVAG vergoedt de benodigde vaccinaties en maximaal 660 euro voor reis- en verblijfskosten.
B5: In het geval van een minor in het buitenland, vergoedt AVAG ook de kosten van de minor zelf, met een maximum van 2250 euro.
B6: Indien beschikbaar kan je PGB ook ingezet worden voor stage in het buitenland. Vraag hiervoor toestemming aan de SLC'er.
B8: Naam student | C8: =Declaratie!C11 -> 0
B9: Studentnummer | C9: =Declaratie!C10 -> 0
B10: Datum declaratie | C10: =Declaratie!C13 -> 0
B13: Korte kostenomschrijving | C13: bedrag | D13: declaratie
B14: Vaccinaties, MRSA, TBC test | D14: =C14 -> 0
B15: Tegemoetkoming in reis- en huisvestingskosten | D15: =MIN(IF(C15<>"",C15,0),F15) -> 0 | F15: 660 | G15: maximum reis- en huisvestingskosten
B16: Kosten voor minor buitenland | D16: =MIN(IF(C16<>"",C16,0),F16) -> 0 | F16: 2250 | G16: maximum vergoeding minor buitenland
B18: TOTAALBEDRAG | D18: =SUM(D14:D17) -> 0
B20: Toelichting
B25: OP TABBLAD 6. FACTUUR EN BETAALBEWIJS ALLE BETAALBEWIJZEN EN FACTUREN OPNEMEN

Sheet 6. Factuur & betaalbewijs
B2: Hier graag facturen en betaalbewijzen opnemen; digitale kopie via snippet tool / print screen.
B3: Op facturen moet duidelijk zichtbaar zijn wie de factuur heeft opgesteld. Het betaalbewijs moet duidelijk aantonen wie er heeft betaald.
B4: Graag factuur en betaalbewijs naast elkaar weergeven en per declaratie een nieuw tabblad voor onderbouwing gebruiken
A6: # | B6: Factuur | M6: # | N6: Betaalbewijs
A8: 1 | M8: 1

Sheet 6. Factuur & betaalbewijs 2
B2: Hier graag facturen en betaalbewijzen opnemen; digitale kopie via snippet tool / print screen.
B3: Op facturen moet duidelijk zichtbaar zijn wie de factuur heeft opgesteld. Het betaalbewijs moet duidelijk aantonen wie er heeft betaald.
B4: Graag factuur en betaalbewijs naast elkaar weergeven en per declaratie een nieuw tabblad voor onderbouwing gebruiken
A6: # | B6: Factuur | M6: # | N6: Betaalbewijs
A8: 1 | M8: 1

Sheet 6. Factuur & betaalbewijs 3
B2: Hier graag facturen en betaalbewijzen opnemen; digitale kopie via snippet tool / print screen.
B3: Op facturen moet duidelijk zichtbaar zijn wie de factuur heeft opgesteld. Het betaalbewijs moet duidelijk aantonen wie er heeft betaald.
B4: Graag factuur en betaalbewijs naast elkaar weergeven en per declaratie een nieuw tabblad voor onderbouwing gebruiken
A6: # | B6: Factuur | M6: # | N6: Betaalbewijs
A8: 1 | M8: 1

Sheet 6. Factuur & betaalbewijs 4 
B2: Hier graag facturen en betaalbewijzen opnemen; digitale kopie via snippet tool / print screen.
B3: Op facturen moet duidelijk zichtbaar zijn wie de factuur heeft opgesteld. Het betaalbewijs moet duidelijk aantonen wie er heeft betaald.
B4: Graag factuur en betaalbewijs naast elkaar weergeven en per declaratie een nieuw tabblad voor onderbouwing gebruiken
A6: # | B6: Factuur | M6: # | N6: Betaalbewijs
A8: 1 | M8: 1

Sheet 6. Factuur & betaalbewijs 5
B2: Hier graag facturen en betaalbewijzen opnemen; digitale kopie via snippet tool / print screen.
B3: Op facturen moet duidelijk zichtbaar zijn wie de factuur heeft opgesteld. Het betaalbewijs moet duidelijk aantonen wie er heeft betaald.
B4: Graag factuur en betaalbewijs naast elkaar weergeven en per declaratie een nieuw tabblad voor onderbouwing gebruiken
A6: # | B6: Factuur | M6: # | N6: Betaalbewijs
A8: 1 | M8: 1

Sheet output
A1: Studentnummer | B1: naam | C1: datum | D1: aard | E1: stagekosten | F1: PGB | G1: taxi | H1: btld stage | I1: overig btld
A2: =Declaratie!C10*1 -> 0 | B2: =Declaratie!C11 -> 0 | C2: =Declaratie!C13 -> 0 | D2: Reiskostenvergoeding partus diensten (totaalbedrag van [kilometervergoeding]) | E2: =SUMIFS(Declaratie!$D$21:$D$29,Declaratie!$E$21:$E$29,output!E$1,Declaratie!$C$21:$C$29,output!$D2) -> 0 | F2: =SUMIFS(Declaratie!$D$21:$D$29,Declaratie!$E$21:$E$29,output!F$1,Declaratie!$C$21:$C$29,output!$D2) -> 0 | G2: =SUMIFS(Declaratie!$D$21:$D$29,Declaratie!$E$21:$E$29,output!G$1,Declaratie!$C$21:$C$29,output!$D2) -> 0
A3: =A2 -> 0 | B3: =B2 -> 0 | C3: =C2 -> 0 | D3: Tegemoetkoming in huisvestingskosten | E3: =SUMIFS(Declaratie!$D$21:$D$29,Declaratie!$E$21:$E$29,output!E$1,Declaratie!$C$21:$C$29,output!$D3) -> 0 | F3: =SUMIFS(Declaratie!$D$21:$D$29,Declaratie!$E$21:$E$29,output!F$1,Declaratie!$C$21:$C$29,output!$D3) -> 0 | G3: =SUMIFS(Declaratie!$D$21:$D$29,Declaratie!$E$21:$E$29,output!G$1,Declaratie!$C$21:$C$29,output!$D3) -> 0
A4: =A3 -> 0 | B4: =B3 -> 0 | C4: =C3 -> 0 | D4: Taxiritten (specificatie op [Taxiritten]) | E4: =SUMIFS(Declaratie!$D$21:$D$29,Declaratie!$E$21:$E$29,output!E$1,Declaratie!$C$21:$C$29,output!$D4) -> 0 | F4: =SUMIFS(Declaratie!$D$21:$D$29,Declaratie!$E$21:$E$29,output!F$1,Declaratie!$C$21:$C$29,output!$D4) -> 0 | G4: =SUMIFS(Declaratie!$D$21:$D$29,Declaratie!$E$21:$E$29,output!G$1,Declaratie!$C$21:$C$29,output!$D4) -> 0
A5: =A4 -> 0 | B5: =B4 -> 0 | C5: =C4 -> 0 | D5: VOG | E5: =SUMIFS(Declaratie!$D$21:$D$29,Declaratie!$E$21:$E$29,output!E$1,Declaratie!$C$21:$C$29,output!$D5) -> 0 | F5: =SUMIFS(Declaratie!$D$21:$D$29,Declaratie!$E$21:$E$29,output!F$1,Declaratie!$C$21:$C$29,output!$D5) -> 0 | G5: =SUMIFS(Declaratie!$D$21:$D$29,Declaratie!$E$21:$E$29,output!G$1,Declaratie!$C$21:$C$29,output!$D5) -> 0
A6: =A5 -> 0 | B6: =B5 -> 0 | C6: =C5 -> 0 | D6: Stage-onkosten of verlofskundige scholing | E6: =SUMIFS(Declaratie!$D$21:$D$29,Declaratie!$E$21:$E$29,output!E$1,Declaratie!$C$21:$C$29,output!$D6) -> 0 | F6: =SUMIFS(Declaratie!$D$21:$D$29,Declaratie!$E$21:$E$29,output!F$1,Declaratie!$C$21:$C$29,output!$D6) -> 0 | G6: =SUMIFS(Declaratie!$D$21:$D$29,Declaratie!$E$21:$E$29,output!G$1,Declaratie!$C$21:$C$29,output!$D6) -> 0
A7: =A6 -> 0 | B7: =B6 -> 0 | C7: =C6 -> 0 | D7: Minor buitenland | E7: =SUMIFS(Declaratie!$D$21:$D$29,Declaratie!$E$21:$E$29,output!E$1,Declaratie!$C$21:$C$29,output!$D7) -> 0 | F7: =SUMIFS(Declaratie!$D$21:$D$29,Declaratie!$E$21:$E$29,output!F$1,Declaratie!$C$21:$C$29,output!$D7) -> 0 | G7: =SUMIFS(Declaratie!$D$21:$D$29,Declaratie!$E$21:$E$29,output!G$1,Declaratie!$C$21:$C$29,output!$D7) -> 0
A8: =A7 -> 0 | B8: =B7 -> 0 | C8: =C7 -> 0 | D8: vaccinaties | I8: =SUMIFS('5. Buitenland'!$D$13:$D$18,'5. Buitenland'!$B$13:$B$18,output!$D8) -> 0
A9: =A8 -> 0 | B9: =B8 -> 0 | C9: =C8 -> 0 | D9: Tegemoetkoming in reis- en huisvestingskosten | H9: =SUMIFS('5. Buitenland'!$D$13:$D$18,'5. Buitenland'!$B$13:$B$18,output!$D9) -> 0
A10: =A9 -> 0 | B10: =B9 -> 0 | C10: =C9 -> 0 | D10: kosten voor minor buitenland | H10: =SUMIFS('5. Buitenland'!$D$13:$D$18,'5. Buitenland'!$B$13:$B$18,output!$D10) -> 0
J11: =SUM(E2:I10) -> 0 | K11: totaal output
J12: =Declaratie!D29 -> 0 | K12: totaal declaratie
J13: =J11-J12 -> 0

Sheet betaling
A1: Kostenplaats | B1: A-nr | C1: Naam begunstigde | D1: Burgerservicenummer | E1: Geboortedatum | F1: Begunstigde en betalingsomschrijving | G1: IBAN begunstigde | H1: Controle IBAN | I1: Euro bedrag | J1: Straatnaam | K1: Postcode | L1: Woonplaats
A2: 2376 | C2: =Declaratie!C18 -> 0 | F2: ="Decl stagekosten "&Declaratie!C10&" "&TEXT(Declaratie!$C$13,"dd mm jjjj") -> Decl stagekosten 00 01 1900 | G2: =Declaratie!C17 -> 0 | H2: xxxx | I2: =Declaratie!D29 -> 0 | L2: =Declaratie!C19 -> 0
B5: is er een vast kostenplaats waar de declaraties op geboekt worden?
B7: helaas zit de controle op het banknummer halverwege het uitbetalingsformulier, dus het inkopieëren (plakken als waarde) moet in twee delen.
